BEGIN:VCALENDAR
VERSION:2.0
PRODID:-//Tukios.com/
BEGIN:VEVENT
UID:70d907f5-b12f-4ba0-bd6e-01007c1c1613@www.shoemakerfamilyservices.com
DTSTAMP:20260420T171218Z
DTSTART:20260509T170000Z
DTEND:20260509T190000Z
SUMMARY:Memorial Service
DESCRIPTION:
URL:https://www.shoemakerfamilyservices.com/obituaries/alex-james-tamsula
LOCATION:Shoemaker Funeral Home, Inc. 49 North Walnut Street  Blairsville 
	PA 15717
GEO:40.4315981;-79.2648456
END:VEVENT
END:VCALENDAR