BEGIN:VCALENDAR
VERSION:2.0
PRODID:-//Tukios.com/
BEGIN:VEVENT
UID:bd0f35ab-80de-4dc0-a869-07df0ed049b9@www.shoemakerfamilyservices.com
DTSTAMP:20260425T214126Z
DTSTART:20260429T220000Z
DTEND:20260430T000000Z
SUMMARY:Visitation
DESCRIPTION:
URL:https://www.shoemakerfamilyservices.com/obituaries/nancy-bender
LOCATION: 36 North 7th Street  Indiana PA 15701
GEO:40.6237727;-79.1537602
END:VEVENT
END:VCALENDAR