BEGIN:VCALENDAR
VERSION:2.0
PRODID:-//Tukios.com/
BEGIN:VEVENT
UID:317f5e9b-5f68-43ac-b791-ad5ee0193f50@www.shoemakerfamilyservices.com
DTSTAMP:20260425T213735Z
DTSTART:20260430T150000Z
DTEND:20260430T160000Z
SUMMARY:Mass
DESCRIPTION:
URL:https://www.shoemakerfamilyservices.com/obituaries/nancy-bender
LOCATION:St. Bernard of Clairvaux Catholic Church 200 Clairvaux Drive  
	Indiana PA 15701
GEO:40.6286332;-79.1363209
END:VEVENT
END:VCALENDAR