BEGIN:VCALENDAR
VERSION:2.0
PRODID:-//Tukios.com/
BEGIN:VEVENT
UID:4dbf641c-40b9-46ef-9836-50e1b7874bc9@www.shoemakerfamilyservices.com
DTSTAMP:20260425T213815Z
DTSTART:20260430T140000Z
DTEND:20260430T150000Z
SUMMARY:Visitation
DESCRIPTION:
URL:https://www.shoemakerfamilyservices.com/obituaries/nancy-bender
LOCATION: 200 Clairvaux Drive  Indiana PA 15701
GEO:40.6286332;-79.1363209
END:VEVENT
END:VCALENDAR