BEGIN:VCALENDAR
VERSION:2.0
PRODID:-//Tukios.com/
BEGIN:VEVENT
UID:572725e8-b156-4b95-bb5c-bbb8bfc2f27e@www.shoemakerfamilyservices.com
DTSTAMP:20260420T211641Z
DTSTART:20260425T150000Z
DTEND:20260425T160000Z
SUMMARY:Memorial Service
DESCRIPTION:
URL:https://www.shoemakerfamilyservices.com/obituaries/terry-swindell
LOCATION:Pleasant Unity United Methodist Church 4685 Pennsylvania 981  
	Latrobe PA 15650
GEO:40.2426231;-79.4604194
END:VEVENT
END:VCALENDAR